Package: curatedPCaData Version: 1.2.0 Command: /home/biocbuild/bbs-3.20-bioc/R/bin/R CMD build --keep-empty-dirs --no-resave-data curatedPCaData StartedAt: 2025-04-01 11:11:00 -0400 (Tue, 01 Apr 2025) EndedAt: 2025-04-01 11:17:38 -0400 (Tue, 01 Apr 2025) EllapsedTime: 398.0 seconds RetCode: 0 Status: OK PackageFile: curatedPCaData_1.2.0.tar.gz PackageFileSize: 2.937 MiB