Package: curatedTCGAData Version: 1.28.1 Command: /home/biocbuild/bbs-3.20-bioc/R/bin/R CMD build --keep-empty-dirs --no-resave-data curatedTCGAData StartedAt: 2025-04-01 11:11:25 -0400 (Tue, 01 Apr 2025) EndedAt: 2025-04-01 11:12:42 -0400 (Tue, 01 Apr 2025) EllapsedTime: 77.3 seconds RetCode: 0 Status: OK PackageFile: curatedTCGAData_1.28.1.tar.gz PackageFileSize: 416.6 KiB