Package: depmap Version: 1.20.0 Command: /home/biocbuild/bbs-3.20-bioc/R/bin/R CMD INSTALL depmap StartedAt: 2025-04-01 10:57:03 -0400 (Tue, 01 Apr 2025) EndedAt: 2025-04-01 10:57:18 -0400 (Tue, 01 Apr 2025) EllapsedTime: 14.5 seconds RetCode: 0 Status: OK