Package: fourDNData Version: 1.6.0 Command: /home/biocbuild/bbs-3.20-bioc/R/bin/R CMD INSTALL fourDNData StartedAt: 2025-04-01 10:59:33 -0400 (Tue, 01 Apr 2025) EndedAt: 2025-04-01 10:59:44 -0400 (Tue, 01 Apr 2025) EllapsedTime: 11.4 seconds RetCode: 0 Status: OK