Package: gDRtestData Version: 1.4.1 Command: /home/biocbuild/bbs-3.20-bioc/R/bin/R CMD build --keep-empty-dirs --no-resave-data gDRtestData StartedAt: 2025-04-01 11:17:30 -0400 (Tue, 01 Apr 2025) EndedAt: 2025-04-01 11:17:36 -0400 (Tue, 01 Apr 2025) EllapsedTime: 6.0 seconds RetCode: 0 Status: OK PackageFile: gDRtestData_1.4.1.tar.gz PackageFileSize: 8.396 MiB