Package: h5vcData Version: 2.26.0 Command: /home/biocbuild/bbs-3.20-bioc/R/bin/R CMD build --keep-empty-dirs --no-resave-data h5vcData StartedAt: 2025-04-01 11:18:31 -0400 (Tue, 01 Apr 2025) EndedAt: 2025-04-01 11:18:34 -0400 (Tue, 01 Apr 2025) EllapsedTime: 2.4 seconds RetCode: 0 Status: OK PackageFile: h5vcData_2.26.0.tar.gz PackageFileSize: 24.83 MiB