Package: hapmap100kxba Version: 1.48.0 Command: /home/biocbuild/bbs-3.20-bioc/R/bin/R CMD build --keep-empty-dirs --no-resave-data hapmap100kxba StartedAt: 2025-04-01 11:18:34 -0400 (Tue, 01 Apr 2025) EndedAt: 2025-04-01 11:19:29 -0400 (Tue, 01 Apr 2025) EllapsedTime: 55.2 seconds RetCode: 0 Status: OK PackageFile: hapmap100kxba_1.48.0.tar.gz PackageFileSize: 38.99 MiB