Package: hapmapsnp5 Version: 1.48.0 Command: /home/biocbuild/bbs-3.20-bioc/R/bin/R CMD build --keep-empty-dirs --no-resave-data hapmapsnp5 StartedAt: 2025-04-01 11:18:51 -0400 (Tue, 01 Apr 2025) EndedAt: 2025-04-01 11:20:42 -0400 (Tue, 01 Apr 2025) EllapsedTime: 111.2 seconds RetCode: 0 Status: OK PackageFile: hapmapsnp5_1.48.0.tar.gz PackageFileSize: 59.41 MiB