Package: hapmapsnp5 Version: 1.48.0 Command: /home/biocbuild/bbs-3.20-bioc/R/bin/R CMD INSTALL hapmapsnp5 StartedAt: 2025-04-01 10:55:26 -0400 (Tue, 01 Apr 2025) EndedAt: 2025-04-01 10:55:28 -0400 (Tue, 01 Apr 2025) EllapsedTime: 2.3 seconds RetCode: 0 Status: OK