Package: hapmapsnp6 Version: 1.48.0 Command: /home/biocbuild/bbs-3.20-bioc/R/bin/R CMD build --keep-empty-dirs --no-resave-data hapmapsnp6 StartedAt: 2025-04-01 11:18:55 -0400 (Tue, 01 Apr 2025) EndedAt: 2025-04-01 11:23:02 -0400 (Tue, 01 Apr 2025) EllapsedTime: 246.3 seconds RetCode: 0 Status: OK PackageFile: hapmapsnp6_1.48.0.tar.gz PackageFileSize: 263.2 MiB