Package: hgu133plus2CellScore Version: 1.26.0 Command: /home/biocbuild/bbs-3.20-bioc/R/bin/R CMD INSTALL hgu133plus2CellScore StartedAt: 2025-04-01 10:56:26 -0400 (Tue, 01 Apr 2025) EndedAt: 2025-04-01 10:56:47 -0400 (Tue, 01 Apr 2025) EllapsedTime: 21.1 seconds RetCode: 0 Status: OK