Package: imcdatasets Version: 1.14.0 Command: /home/biocbuild/bbs-3.20-bioc/R/bin/R CMD check --install=check:imcdatasets.install-out.txt --library=/home/biocbuild/bbs-3.20-bioc/R/site-library --timings imcdatasets_1.14.0.tar.gz StartedAt: 2025-04-01 12:11:19 -0400 (Tue, 01 Apr 2025) EndedAt: 2025-04-01 12:27:12 -0400 (Tue, 01 Apr 2025) EllapsedTime: 952.9 seconds RetCode: 0 Status: OK CheckDir: imcdatasets.Rcheck Warnings: 0