Package: leeBamViews Version: 1.42.0 Command: /home/biocbuild/bbs-3.20-bioc/R/bin/R CMD build --keep-empty-dirs --no-resave-data leeBamViews StartedAt: 2025-04-01 11:23:43 -0400 (Tue, 01 Apr 2025) EndedAt: 2025-04-01 11:24:40 -0400 (Tue, 01 Apr 2025) EllapsedTime: 57.5 seconds RetCode: 0 Status: OK PackageFile: leeBamViews_1.42.0.tar.gz PackageFileSize: 11.05 MiB