Package: leeBamViews Version: 1.42.0 Command: /home/biocbuild/bbs-3.20-bioc/R/bin/R CMD INSTALL leeBamViews StartedAt: 2025-04-01 11:01:45 -0400 (Tue, 01 Apr 2025) EndedAt: 2025-04-01 11:02:14 -0400 (Tue, 01 Apr 2025) EllapsedTime: 28.9 seconds RetCode: 0 Status: OK