Package: mCSEAdata Version: 1.26.1 Command: /home/biocbuild/bbs-3.20-bioc/R/bin/R CMD build --keep-empty-dirs --no-resave-data mCSEAdata StartedAt: 2025-04-01 11:25:10 -0400 (Tue, 01 Apr 2025) EndedAt: 2025-04-01 11:26:24 -0400 (Tue, 01 Apr 2025) EllapsedTime: 74.8 seconds RetCode: 0 Status: OK PackageFile: mCSEAdata_1.26.1.tar.gz PackageFileSize: 15.84 MiB