Package: msd16s Version: 1.26.0 Command: /home/biocbuild/bbs-3.20-bioc/R/bin/R CMD INSTALL msd16s StartedAt: 2025-04-01 10:56:25 -0400 (Tue, 01 Apr 2025) EndedAt: 2025-04-01 10:56:34 -0400 (Tue, 01 Apr 2025) EllapsedTime: 8.3 seconds RetCode: 0 Status: OK