Package: muleaData Version: 1.2.0 Command: /home/biocbuild/bbs-3.20-bioc/R/bin/R CMD build --keep-empty-dirs --no-resave-data muleaData StartedAt: 2025-04-01 11:28:01 -0400 (Tue, 01 Apr 2025) EndedAt: 2025-04-01 11:28:13 -0400 (Tue, 01 Apr 2025) EllapsedTime: 12.0 seconds RetCode: 0 Status: OK PackageFile: muleaData_1.2.0.tar.gz PackageFileSize: 40.88 KiB