Package: oct4 Version: 1.22.0 Command: /home/biocbuild/bbs-3.20-bioc/R/bin/R CMD INSTALL oct4 StartedAt: 2025-04-01 10:55:25 -0400 (Tue, 01 Apr 2025) EndedAt: 2025-04-01 10:55:27 -0400 (Tue, 01 Apr 2025) EllapsedTime: 1.9 seconds RetCode: 0 Status: OK