Package: pasilla Version: 1.34.0 Command: /home/biocbuild/bbs-3.20-bioc/R/bin/R CMD build --keep-empty-dirs --no-resave-data pasilla StartedAt: 2025-04-01 11:29:42 -0400 (Tue, 01 Apr 2025) EndedAt: 2025-04-01 11:30:36 -0400 (Tue, 01 Apr 2025) EllapsedTime: 53.1 seconds RetCode: 0 Status: OK PackageFile: pasilla_1.34.0.tar.gz PackageFileSize: 3.151 MiB