Package: pasillaBamSubset Version: 0.44.0 Command: /home/biocbuild/bbs-3.20-bioc/R/bin/R CMD build --keep-empty-dirs --no-resave-data pasillaBamSubset StartedAt: 2025-04-01 11:30:10 -0400 (Tue, 01 Apr 2025) EndedAt: 2025-04-01 11:30:13 -0400 (Tue, 01 Apr 2025) EllapsedTime: 2.9 seconds RetCode: 0 Status: OK PackageFile: pasillaBamSubset_0.44.0.tar.gz PackageFileSize: 15.01 MiB