Package: plotgardenerData Version: 1.12.0 Command: /home/biocbuild/bbs-3.20-bioc/R/bin/R CMD build --keep-empty-dirs --no-resave-data plotgardenerData StartedAt: 2025-04-01 11:30:31 -0400 (Tue, 01 Apr 2025) EndedAt: 2025-04-01 11:30:35 -0400 (Tue, 01 Apr 2025) EllapsedTime: 4.3 seconds RetCode: 0 Status: OK PackageFile: plotgardenerData_1.12.0.tar.gz PackageFileSize: 2.388 MiB