Package: prebsdata Version: 1.42.0 Command: /home/biocbuild/bbs-3.20-bioc/R/bin/R CMD build --keep-empty-dirs --no-resave-data prebsdata StartedAt: 2025-04-01 11:30:31 -0400 (Tue, 01 Apr 2025) EndedAt: 2025-04-01 11:30:55 -0400 (Tue, 01 Apr 2025) EllapsedTime: 23.7 seconds RetCode: 0 Status: OK PackageFile: prebsdata_1.42.0.tar.gz PackageFileSize: 23.54 MiB