Package: prostateCancerCamcap Version: 1.34.0 Command: /home/biocbuild/bbs-3.20-bioc/R/bin/R CMD build --keep-empty-dirs --no-resave-data prostateCancerCamcap StartedAt: 2025-04-01 11:30:55 -0400 (Tue, 01 Apr 2025) EndedAt: 2025-04-01 11:31:22 -0400 (Tue, 01 Apr 2025) EllapsedTime: 27.0 seconds RetCode: 0 Status: OK PackageFile: prostateCancerCamcap_1.34.0.tar.gz PackageFileSize: 46.88 MiB