Package: prostateCancerCamcap Version: 1.34.0 Command: /home/biocbuild/bbs-3.20-bioc/R/bin/R CMD INSTALL prostateCancerCamcap StartedAt: 2025-04-01 10:56:03 -0400 (Tue, 01 Apr 2025) EndedAt: 2025-04-01 10:56:19 -0400 (Tue, 01 Apr 2025) EllapsedTime: 15.6 seconds RetCode: 0 Status: OK