Package: prostateCancerGrasso Version: 1.34.0 Command: /home/biocbuild/bbs-3.20-bioc/R/bin/R CMD INSTALL prostateCancerGrasso StartedAt: 2025-04-01 10:56:23 -0400 (Tue, 01 Apr 2025) EndedAt: 2025-04-01 10:56:31 -0400 (Tue, 01 Apr 2025) EllapsedTime: 7.4 seconds RetCode: 0 Status: OK