Package: prostateCancerVarambally Version: 1.34.0 Command: /home/biocbuild/bbs-3.20-bioc/R/bin/R CMD INSTALL prostateCancerVarambally StartedAt: 2025-04-01 10:56:01 -0400 (Tue, 01 Apr 2025) EndedAt: 2025-04-01 10:56:06 -0400 (Tue, 01 Apr 2025) EllapsedTime: 5.0 seconds RetCode: 0 Status: OK