Package: sampleClassifierData Version: 1.30.0 Command: /home/biocbuild/bbs-3.20-bioc/R/bin/R CMD check --install=check:sampleClassifierData.install-out.txt --library=/home/biocbuild/bbs-3.20-bioc/R/site-library --timings sampleClassifierData_1.30.0.tar.gz StartedAt: 2025-04-01 12:33:54 -0400 (Tue, 01 Apr 2025) EndedAt: 2025-04-01 12:35:24 -0400 (Tue, 01 Apr 2025) EllapsedTime: 90.5 seconds RetCode: 0 Status: OK CheckDir: sampleClassifierData.Rcheck Warnings: 0