Package: scMultiome Version: 1.6.0 Command: /home/biocbuild/bbs-3.20-bioc/R/bin/R CMD build --keep-empty-dirs --no-resave-data scMultiome StartedAt: 2025-04-01 11:35:16 -0400 (Tue, 01 Apr 2025) EndedAt: 2025-04-01 11:36:05 -0400 (Tue, 01 Apr 2025) EllapsedTime: 48.3 seconds RetCode: 0 Status: OK PackageFile: scMultiome_1.6.0.tar.gz PackageFileSize: 357 KiB