Package: scMultiome Version: 1.6.0 Command: /home/biocbuild/bbs-3.20-bioc/R/bin/R CMD INSTALL scMultiome StartedAt: 2025-04-01 11:03:12 -0400 (Tue, 01 Apr 2025) EndedAt: 2025-04-01 11:03:45 -0400 (Tue, 01 Apr 2025) EllapsedTime: 33.4 seconds RetCode: 0 Status: OK