Package: seqc Version: 1.40.0 Command: /home/biocbuild/bbs-3.20-bioc/R/bin/R CMD build --keep-empty-dirs --no-resave-data seqc StartedAt: 2025-04-01 11:35:42 -0400 (Tue, 01 Apr 2025) EndedAt: 2025-04-01 11:37:48 -0400 (Tue, 01 Apr 2025) EllapsedTime: 125.7 seconds RetCode: 0 Status: OK PackageFile: seqc_1.40.0.tar.gz PackageFileSize: 179.1 MiB