Package: synapterdata Version: 1.44.0 Command: /home/biocbuild/bbs-3.20-bioc/R/bin/R CMD build --keep-empty-dirs --no-resave-data synapterdata StartedAt: 2025-04-01 11:37:18 -0400 (Tue, 01 Apr 2025) EndedAt: 2025-04-01 11:37:47 -0400 (Tue, 01 Apr 2025) EllapsedTime: 29.2 seconds RetCode: 0 Status: OK PackageFile: synapterdata_1.44.0.tar.gz PackageFileSize: 418.4 MiB