Package: timecoursedata Version: 1.16.0 Command: /home/biocbuild/bbs-3.20-bioc/R/bin/R CMD build --keep-empty-dirs --no-resave-data timecoursedata StartedAt: 2025-04-01 11:38:44 -0400 (Tue, 01 Apr 2025) EndedAt: 2025-04-01 11:39:22 -0400 (Tue, 01 Apr 2025) EllapsedTime: 38.5 seconds RetCode: 0 Status: OK PackageFile: timecoursedata_1.16.0.tar.gz PackageFileSize: 44.87 MiB