Package: tinesath1cdf Version: 1.44.0 Command: /home/biocbuild/bbs-3.20-bioc/R/bin/R CMD build --keep-empty-dirs --no-resave-data tinesath1cdf StartedAt: 2025-04-01 11:39:06 -0400 (Tue, 01 Apr 2025) EndedAt: 2025-04-01 11:39:07 -0400 (Tue, 01 Apr 2025) EllapsedTime: 1.0 seconds RetCode: 0 Status: OK PackageFile: tinesath1cdf_1.44.0.tar.gz PackageFileSize: 1.478 MiB