Package: vulcandata Version: 1.28.0 Command: /home/biocbuild/bbs-3.20-bioc/R/bin/R CMD build --keep-empty-dirs --no-resave-data vulcandata StartedAt: 2025-04-01 11:40:31 -0400 (Tue, 01 Apr 2025) EndedAt: 2025-04-01 11:40:41 -0400 (Tue, 01 Apr 2025) EllapsedTime: 10.3 seconds RetCode: 0 Status: OK PackageFile: vulcandata_1.28.0.tar.gz PackageFileSize: 44.75 MiB