Package: vulcandata Version: 1.28.0 Command: /home/biocbuild/bbs-3.20-bioc/R/bin/R CMD INSTALL vulcandata StartedAt: 2025-04-01 10:55:19 -0400 (Tue, 01 Apr 2025) EndedAt: 2025-04-01 10:55:21 -0400 (Tue, 01 Apr 2025) EllapsedTime: 2.5 seconds RetCode: 0 Status: OK