Package: xcoredata Version: 1.10.0 Command: /home/biocbuild/bbs-3.20-bioc/R/bin/R CMD build --keep-empty-dirs --no-resave-data xcoredata StartedAt: 2025-04-01 11:40:48 -0400 (Tue, 01 Apr 2025) EndedAt: 2025-04-01 11:42:56 -0400 (Tue, 01 Apr 2025) EllapsedTime: 128.2 seconds RetCode: 0 Status: OK PackageFile: xcoredata_1.10.0.tar.gz PackageFileSize: 1.332 MiB