Package: xcoredata Version: 1.10.0 Command: /home/biocbuild/bbs-3.20-bioc/R/bin/R CMD INSTALL xcoredata StartedAt: 2025-04-01 10:57:18 -0400 (Tue, 01 Apr 2025) EndedAt: 2025-04-01 10:57:31 -0400 (Tue, 01 Apr 2025) EllapsedTime: 12.9 seconds RetCode: 0 Status: OK