Package: yeastExpData Version: 0.52.0 Command: /home/biocbuild/bbs-3.20-bioc/R/bin/R CMD build --keep-empty-dirs --no-resave-data yeastExpData StartedAt: 2025-04-01 11:40:58 -0400 (Tue, 01 Apr 2025) EndedAt: 2025-04-01 11:41:06 -0400 (Tue, 01 Apr 2025) EllapsedTime: 7.5 seconds RetCode: 0 Status: OK PackageFile: yeastExpData_0.52.0.tar.gz PackageFileSize: 935 KiB