Package: AmpAffyExample Version: 1.48.0 Command: /home/biocbuild/bbs-3.21-bioc/R/bin/R CMD build --keep-empty-dirs --no-resave-data AmpAffyExample StartedAt: 2025-07-15 11:06:08 -0400 (Tue, 15 Jul 2025) EndedAt: 2025-07-15 11:06:11 -0400 (Tue, 15 Jul 2025) EllapsedTime: 2.3 seconds RetCode: 0 Status: OK PackageFile: AmpAffyExample_1.48.0.tar.gz PackageFileSize: 6.464 MiB