Package: BeadArrayUseCases Version: 1.46.0 Command: /home/biocbuild/bbs-3.21-bioc/R/bin/R CMD INSTALL BeadArrayUseCases StartedAt: 2025-07-10 11:00:30 -0400 (Thu, 10 Jul 2025) EndedAt: 2025-07-10 11:00:50 -0400 (Thu, 10 Jul 2025) EllapsedTime: 20.1 seconds RetCode: 0 Status: OK