Package: BloodCancerMultiOmics2017 Version: 1.28.0 Command: /home/biocbuild/bbs-3.21-bioc/R/bin/R CMD build --keep-empty-dirs --no-resave-data BloodCancerMultiOmics2017 StartedAt: 2025-10-16 11:06:54 -0400 (Thu, 16 Oct 2025) EndedAt: 2025-10-16 11:37:25 -0400 (Thu, 16 Oct 2025) EllapsedTime: 1831.7 seconds RetCode: 0 Status: OK PackageFile: BloodCancerMultiOmics2017_1.28.0.tar.gz PackageFileSize: 53.7 MiB