Package: BloodCancerMultiOmics2017 Version: 1.28.0 Command: /home/biocbuild/bbs-3.21-bioc/R/bin/R CMD INSTALL BloodCancerMultiOmics2017 StartedAt: 2025-10-16 11:00:51 -0400 (Thu, 16 Oct 2025) EndedAt: 2025-10-16 11:01:38 -0400 (Thu, 16 Oct 2025) EllapsedTime: 46.6 seconds RetCode: 0 Status: OK