Package: CardinalWorkflows Version: 1.40.0 Command: /home/biocbuild/bbs-3.21-bioc/R/bin/R CMD INSTALL CardinalWorkflows StartedAt: 2025-07-10 10:57:58 -0400 (Thu, 10 Jul 2025) EndedAt: 2025-07-10 10:58:10 -0400 (Thu, 10 Jul 2025) EllapsedTime: 12.4 seconds RetCode: 0 Status: OK