Package: CellMapperData Version: 1.34.0 Command: /home/biocbuild/bbs-3.21-bioc/R/bin/R CMD INSTALL CellMapperData StartedAt: 2025-07-10 10:57:27 -0400 (Thu, 10 Jul 2025) EndedAt: 2025-07-10 10:57:36 -0400 (Thu, 10 Jul 2025) EllapsedTime: 8.9 seconds RetCode: 0 Status: OK