Package: ChIPXpressData Version: 1.46.0 Command: /home/biocbuild/bbs-3.21-bioc/R/bin/R CMD build --keep-empty-dirs --no-resave-data ChIPXpressData StartedAt: 2025-07-15 11:08:32 -0400 (Tue, 15 Jul 2025) EndedAt: 2025-07-15 11:13:45 -0400 (Tue, 15 Jul 2025) EllapsedTime: 313.6 seconds RetCode: 0 Status: OK PackageFile: ChIPXpressData_1.46.0.tar.gz PackageFileSize: 3.171 GiB