Package: ChIPXpressData Version: 1.46.0 Command: /home/biocbuild/bbs-3.21-bioc/R/bin/R CMD INSTALL ChIPXpressData StartedAt: 2025-07-15 10:56:06 -0400 (Tue, 15 Jul 2025) EndedAt: 2025-07-15 10:56:36 -0400 (Tue, 15 Jul 2025) EllapsedTime: 29.6 seconds RetCode: 0 Status: OK