Package: ChIPexoQualExample Version: 1.32.0 Command: /home/biocbuild/bbs-3.21-bioc/R/bin/R CMD build --keep-empty-dirs --no-resave-data ChIPexoQualExample StartedAt: 2025-07-10 11:08:20 -0400 (Thu, 10 Jul 2025) EndedAt: 2025-07-10 11:08:34 -0400 (Thu, 10 Jul 2025) EllapsedTime: 13.7 seconds RetCode: 0 Status: OK PackageFile: ChIPexoQualExample_1.32.0.tar.gz PackageFileSize: 152.3 MiB