Package: ChIPexoQualExample Version: 1.32.0 Command: /home/biocbuild/bbs-3.21-bioc/R/bin/R CMD INSTALL ChIPexoQualExample StartedAt: 2025-07-10 10:55:29 -0400 (Thu, 10 Jul 2025) EndedAt: 2025-07-10 10:55:32 -0400 (Thu, 10 Jul 2025) EllapsedTime: 2.6 seconds RetCode: 0 Status: OK