Package: ConnectivityMap Version: 1.44.0 Command: /home/biocbuild/bbs-3.21-bioc/R/bin/R CMD INSTALL ConnectivityMap StartedAt: 2025-07-15 10:55:57 -0400 (Tue, 15 Jul 2025) EndedAt: 2025-07-15 10:56:06 -0400 (Tue, 15 Jul 2025) EllapsedTime: 8.8 seconds RetCode: 0 Status: OK