Package: CopyNeutralIMA Version: 1.26.0 Command: /home/biocbuild/bbs-3.21-bioc/R/bin/R CMD build --keep-empty-dirs --no-resave-data CopyNeutralIMA StartedAt: 2025-07-10 11:09:53 -0400 (Thu, 10 Jul 2025) EndedAt: 2025-07-10 11:13:15 -0400 (Thu, 10 Jul 2025) EllapsedTime: 201.3 seconds RetCode: 0 Status: OK PackageFile: CopyNeutralIMA_1.26.0.tar.gz PackageFileSize: 566.9 KiB